BEGIN:VCALENDAR
VERSION:2.0
PRODID:-//phil.firespring.org//NONSGML kigkonsult.se iCalcreator 2.30.10//
CALSCALE:GREGORIAN
METHOD:PUBLISH
UID:0b3e606c-ba4b-4858-9732-67a712a039d5
X-WR-CALDESC:Please bring drinking water
X-WR-RELCALID:2641353338c4fc953da17a3fc96c5e26
X-WR-TIMEZONE:America/Chicago
BEGIN:VTIMEZONE
TZID:America/Chicago
BEGIN:STANDARD
TZNAME:CST
DTSTART:20201101T020000
TZOFFSETFROM:-0500
TZOFFSETTO:-0600
RDATE:20211107T020000
RDATE:20221106T020000
END:STANDARD
BEGIN:DAYLIGHT
TZNAME:CDT
DTSTART:20210314T020000
TZOFFSETFROM:-0600
TZOFFSETTO:-0500
RDATE:20220313T020000
END:DAYLIGHT
END:VTIMEZONE
BEGIN:VEVENT
UID:9d08933a-5686-4245-93b8-efd4fc24be85
DTSTAMP:20260423T053850Z
DESCRIPTION:Please bring drinking water
DTSTART;TZID=America/Chicago:20210729T160000
DTEND;TZID=America/Chicago:20210729T170000
LOCATION:Firespring
SUMMARY:Walking Group
END:VEVENT
END:VCALENDAR
