BEGIN:VCALENDAR
VERSION:2.0
PRODID:-//phil.firespring.org//NONSGML kigkonsult.se iCalcreator 2.30.10//
CALSCALE:GREGORIAN
METHOD:PUBLISH
UID:88f58126-1e6f-4378-8f75-a0d01de488e6
X-WR-CALDESC:Please bring drinking water
X-WR-RELCALID:afa14c9ef538c979f4493d58256f5489
X-WR-TIMEZONE:America/Chicago
BEGIN:VTIMEZONE
TZID:America/Chicago
BEGIN:STANDARD
TZNAME:CST
DTSTART:20201101T020000
TZOFFSETFROM:-0500
TZOFFSETTO:-0600
RDATE:20211107T020000
RDATE:20221106T020000
END:STANDARD
BEGIN:DAYLIGHT
TZNAME:CDT
DTSTART:20210314T020000
TZOFFSETFROM:-0600
TZOFFSETTO:-0500
RDATE:20220313T020000
END:DAYLIGHT
END:VTIMEZONE
BEGIN:VEVENT
UID:8fa4fc61-321e-4ed6-b884-02cd26dbe9a1
DTSTAMP:20260423T041755Z
DESCRIPTION:Please bring drinking water
DTSTART;TZID=America/Chicago:20210805T160000
DTEND;TZID=America/Chicago:20210805T170000
LOCATION:Firespring
SUMMARY:Walking Group
END:VEVENT
END:VCALENDAR
