BEGIN:VCALENDAR
VERSION:2.0
PRODID:-//phil.firespring.org//NONSGML kigkonsult.se iCalcreator 2.30.10//
CALSCALE:GREGORIAN
METHOD:PUBLISH
UID:e7217f48-72d0-4617-8d94-1658bac6db7c
X-WR-CALDESC:This is more detail
X-WR-RELCALID:79d9d87d916c50aa76827a63ad157848
X-WR-TIMEZONE:America/Chicago
BEGIN:VTIMEZONE
TZID:America/Chicago
BEGIN:STANDARD
TZNAME:CST
DTSTART:20201101T020000
TZOFFSETFROM:-0500
TZOFFSETTO:-0600
RDATE:20211107T020000
RDATE:20221106T020000
END:STANDARD
BEGIN:DAYLIGHT
TZNAME:CDT
DTSTART:20210314T020000
TZOFFSETFROM:-0600
TZOFFSETTO:-0500
RDATE:20220313T020000
END:DAYLIGHT
END:VTIMEZONE
BEGIN:VEVENT
UID:e5247bc3-76a0-478b-9af9-bb2b4bcd3c72
DTSTAMP:20260423T041755Z
DESCRIPTION:This is more detail
DTSTART;TZID=America/Chicago:20210823T120000
DTEND;TZID=America/Chicago:20210823T130000
LOCATION:1200 Inifity Court\, Lincoln\, NE 68516 US
SUMMARY:Initiative Kick-off
END:VEVENT
END:VCALENDAR
