BEGIN:VCALENDAR
VERSION:2.0
PRODID:-//phil.firespring.org//NONSGML kigkonsult.se iCalcreator 2.30.10//
CALSCALE:GREGORIAN
METHOD:PUBLISH
UID:a7335bd1-66a7-4464-ad97-52f5cece69ec
X-WR-CALDESC:
X-WR-RELCALID:c6c30a6ec9419ec455edbc7331a014d2
X-WR-TIMEZONE:America/Chicago
BEGIN:VTIMEZONE
TZID:America/Chicago
BEGIN:STANDARD
TZNAME:CST
DTSTART:20201101T020000
TZOFFSETFROM:-0500
TZOFFSETTO:-0600
RDATE:20211107T020000
RDATE:20221106T020000
END:STANDARD
BEGIN:DAYLIGHT
TZNAME:CDT
DTSTART:20210314T020000
TZOFFSETFROM:-0600
TZOFFSETTO:-0500
RDATE:20220313T020000
END:DAYLIGHT
END:VTIMEZONE
BEGIN:VEVENT
UID:a214f6fe-6e59-4f0f-8cc7-f393abccd529
DTSTAMP:20260423T041644Z
DESCRIPTION:
DTSTART;TZID=America/Chicago:20210831T143000
DTEND;TZID=America/Chicago:20210831T153000
LOCATION:
SUMMARY:Gala 2021
END:VEVENT
END:VCALENDAR
