BEGIN:VCALENDAR
VERSION:2.0
PRODID:-//phil.firespring.org//NONSGML kigkonsult.se iCalcreator 2.30.10//
CALSCALE:GREGORIAN
METHOD:PUBLISH
UID:f355a746-85d7-4241-ad95-1f00322bca1e
X-WR-CALDESC:Please bring drinking water
X-WR-RELCALID:09f7ed30ab2866b58dd6bb62733cfecf
X-WR-TIMEZONE:America/Chicago
BEGIN:VTIMEZONE
TZID:America/Chicago
BEGIN:STANDARD
TZNAME:CST
DTSTART:20201101T020000
TZOFFSETFROM:-0500
TZOFFSETTO:-0600
RDATE:20211107T020000
RDATE:20221106T020000
END:STANDARD
BEGIN:DAYLIGHT
TZNAME:CDT
DTSTART:20210314T020000
TZOFFSETFROM:-0600
TZOFFSETTO:-0500
RDATE:20220313T020000
RDATE:20230312T020000
END:DAYLIGHT
END:VTIMEZONE
BEGIN:VEVENT
UID:92595a00-d2ff-47f9-b100-0d654ce7f77c
DTSTAMP:20260423T023830Z
DESCRIPTION:Please bring drinking water
DTSTART;TZID=America/Chicago:20210930T160000
DTEND;TZID=America/Chicago:20210930T170000
LOCATION:Firespring
SUMMARY:Walking Group
END:VEVENT
END:VCALENDAR
