BEGIN:VCALENDAR
VERSION:2.0
PRODID:-//phil.firespring.org//NONSGML kigkonsult.se iCalcreator 2.30.10//
CALSCALE:GREGORIAN
METHOD:PUBLISH
UID:69440d6a-e312-4bde-8253-bfd494bf764d
X-WR-CALDESC:
X-WR-RELCALID:1d6a71933795b9837e8fb3ad0ac342bc
X-WR-TIMEZONE:America/Chicago
BEGIN:VTIMEZONE
TZID:America/Chicago
BEGIN:STANDARD
TZNAME:CST
DTSTART:20201101T020000
TZOFFSETFROM:-0500
TZOFFSETTO:-0600
RDATE:20211107T020000
RDATE:20221106T020000
END:STANDARD
BEGIN:DAYLIGHT
TZNAME:CDT
DTSTART:20210314T020000
TZOFFSETFROM:-0600
TZOFFSETTO:-0500
RDATE:20220313T020000
RDATE:20230312T020000
END:DAYLIGHT
END:VTIMEZONE
BEGIN:VEVENT
UID:8ba965be-0cac-4fbc-9e39-2075f5edf4a0
DTSTAMP:20260423T023531Z
DESCRIPTION:
DTSTART;TZID=America/Chicago:20210930T103000
DTEND;TZID=America/Chicago:20210930T113000
LOCATION:
SUMMARY:Gala
END:VEVENT
END:VCALENDAR
