BEGIN:VCALENDAR
VERSION:2.0
PRODID:-//phil.firespring.org//NONSGML kigkonsult.se iCalcreator 2.30.10//
CALSCALE:GREGORIAN
METHOD:PUBLISH
UID:40af4a1c-2ac4-4670-a901-02f2f50d5ef9
X-WR-CALDESC:
X-WR-RELCALID:124caba8c7d73622d1d249f0c613dff9
X-WR-TIMEZONE:America/Chicago
BEGIN:VTIMEZONE
TZID:America/Chicago
BEGIN:STANDARD
TZNAME:CST
DTSTART:20201101T020000
TZOFFSETFROM:-0500
TZOFFSETTO:-0600
RDATE:20211107T020000
RDATE:20221106T020000
END:STANDARD
BEGIN:DAYLIGHT
TZNAME:CDT
DTSTART:20210314T020000
TZOFFSETFROM:-0600
TZOFFSETTO:-0500
RDATE:20220313T020000
RDATE:20230312T020000
END:DAYLIGHT
END:VTIMEZONE
BEGIN:VEVENT
UID:8258d2b9-b2f1-4207-88dc-4c8316d8d9a1
DTSTAMP:20260423T023625Z
DESCRIPTION:
DTSTART;TZID=America/Chicago:20210930T103000
DTEND;TZID=America/Chicago:20210930T113000
LOCATION:
SUMMARY:Golf Event
END:VEVENT
END:VCALENDAR
