BEGIN:VCALENDAR
VERSION:2.0
PRODID:-//phil.firespring.org//NONSGML kigkonsult.se iCalcreator 2.30.10//
CALSCALE:GREGORIAN
METHOD:PUBLISH
UID:241cb38e-c920-4c6f-8cbf-daa21b1acba1
X-WR-CALDESC:
X-WR-RELCALID:24594e3de4e6cc15e24aea97197a111a
X-WR-TIMEZONE:America/Chicago
BEGIN:VTIMEZONE
TZID:America/Chicago
BEGIN:STANDARD
TZNAME:CST
DTSTART:20201101T020000
TZOFFSETFROM:-0500
TZOFFSETTO:-0600
RDATE:20211107T020000
RDATE:20221106T020000
END:STANDARD
BEGIN:DAYLIGHT
TZNAME:CDT
DTSTART:20210314T020000
TZOFFSETFROM:-0600
TZOFFSETTO:-0500
RDATE:20220313T020000
RDATE:20230312T020000
END:DAYLIGHT
END:VTIMEZONE
BEGIN:VEVENT
UID:bf02a9f6-eb42-4eba-914c-2d07f79ea7c0
DTSTAMP:20260423T005413Z
DESCRIPTION:
DTSTART;TZID=America/Chicago:20211020T133000
DTEND;TZID=America/Chicago:20211020T143000
LOCATION:
SUMMARY:Game Night
END:VEVENT
END:VCALENDAR
