BEGIN:VCALENDAR
VERSION:2.0
PRODID:-//phil.firespring.org//NONSGML kigkonsult.se iCalcreator 2.30.10//
CALSCALE:GREGORIAN
METHOD:PUBLISH
UID:27a51134-5ded-4de9-9639-994f36a702c8
X-WR-CALDESC:
X-WR-RELCALID:89b2afdbd463f1fe29fb306b6c3071ef
X-WR-TIMEZONE:America/Chicago
BEGIN:VTIMEZONE
TZID:America/Chicago
BEGIN:STANDARD
TZNAME:CST
DTSTART:20201101T020000
TZOFFSETFROM:-0500
TZOFFSETTO:-0600
RDATE:20211107T020000
RDATE:20221106T020000
END:STANDARD
BEGIN:DAYLIGHT
TZNAME:CDT
DTSTART:20210314T020000
TZOFFSETFROM:-0600
TZOFFSETTO:-0500
RDATE:20220313T020000
RDATE:20230312T020000
END:DAYLIGHT
END:VTIMEZONE
BEGIN:VEVENT
UID:8d4bbea4-8744-4d91-9187-feb10cd0bff4
DTSTAMP:20260423T005252Z
DESCRIPTION:
DTSTART;TZID=America/Chicago:20211020T000000
DTEND;TZID=America/Chicago:20211020T235900
LOCATION:
SUMMARY:test
END:VEVENT
END:VCALENDAR
