BEGIN:VCALENDAR
VERSION:2.0
PRODID:-//phil.firespring.org//NONSGML kigkonsult.se iCalcreator 2.30.10//
CALSCALE:GREGORIAN
METHOD:PUBLISH
UID:c569c005-3ab6-4ce5-a806-94bdfc62be07
X-WR-CALDESC:Please bring drinking water
X-WR-RELCALID:9dd14637c701ed525a3dd26d9498f528
X-WR-TIMEZONE:America/Chicago
BEGIN:VTIMEZONE
TZID:America/Chicago
BEGIN:STANDARD
TZNAME:CST
DTSTART:20211107T020000
TZOFFSETFROM:-0500
TZOFFSETTO:-0600
RDATE:20221106T020000
END:STANDARD
BEGIN:DAYLIGHT
TZNAME:CDT
DTSTART:20210314T020000
TZOFFSETFROM:-0600
TZOFFSETTO:-0500
RDATE:20220313T020000
RDATE:20230312T020000
END:DAYLIGHT
END:VTIMEZONE
BEGIN:VEVENT
UID:681ab000-bc32-47bd-bdc1-ca82820f97bc
DTSTAMP:20260422T232744Z
DESCRIPTION:Please bring drinking water
DTSTART;TZID=America/Chicago:20211104T160000
DTEND;TZID=America/Chicago:20211104T170000
LOCATION:Firespring
SUMMARY:Walking Group
END:VEVENT
END:VCALENDAR
