BEGIN:VCALENDAR
VERSION:2.0
PRODID:-//phil.firespring.org//NONSGML kigkonsult.se iCalcreator 2.30.10//
CALSCALE:GREGORIAN
METHOD:PUBLISH
UID:45c65cb0-03c2-413a-9a98-303892485735
X-WR-CALDESC:
X-WR-RELCALID:9d2c3f550a20a9d64c0c7dcbd90a153b
X-WR-TIMEZONE:America/Chicago
BEGIN:VTIMEZONE
TZID:America/Chicago
BEGIN:STANDARD
TZNAME:CST
DTSTART:20211107T020000
TZOFFSETFROM:-0500
TZOFFSETTO:-0600
RDATE:20221106T020000
END:STANDARD
BEGIN:DAYLIGHT
TZNAME:CDT
DTSTART:20210314T020000
TZOFFSETFROM:-0600
TZOFFSETTO:-0500
RDATE:20220313T020000
RDATE:20230312T020000
END:DAYLIGHT
END:VTIMEZONE
BEGIN:VEVENT
UID:ad4b459f-9aa9-46a2-99d1-134e9177d169
DTSTAMP:20260422T232544Z
DESCRIPTION:
DTSTART;TZID=America/Chicago:20211130T123000
DTEND;TZID=America/Chicago:20211130T133000
LOCATION:
SUMMARY:Gala
END:VEVENT
END:VCALENDAR
