BEGIN:VCALENDAR
VERSION:2.0
PRODID:-//phil.firespring.org//NONSGML kigkonsult.se iCalcreator 2.30.10//
CALSCALE:GREGORIAN
METHOD:PUBLISH
UID:724e14fb-ff7a-4467-8cf0-268d2f4214ed
X-WR-CALDESC:Please bring drinking water
X-WR-RELCALID:683012bc0d28d49e705e0f3089c310c6
X-WR-TIMEZONE:America/Chicago
BEGIN:VTIMEZONE
TZID:America/Chicago
BEGIN:STANDARD
TZNAME:CST
DTSTART:20211107T020000
TZOFFSETFROM:-0500
TZOFFSETTO:-0600
RDATE:20221106T020000
END:STANDARD
BEGIN:DAYLIGHT
TZNAME:CDT
DTSTART:20210314T020000
TZOFFSETFROM:-0600
TZOFFSETTO:-0500
RDATE:20220313T020000
RDATE:20230312T020000
END:DAYLIGHT
END:VTIMEZONE
BEGIN:VEVENT
UID:6438d59e-09b3-49fb-ab38-ebbcda121e58
DTSTAMP:20260422T215234Z
DESCRIPTION:Please bring drinking water
DTSTART;TZID=America/Chicago:20211216T160000
DTEND;TZID=America/Chicago:20211216T170000
LOCATION:Firespring
SUMMARY:Walking Group
END:VEVENT
END:VCALENDAR
