BEGIN:VCALENDAR
VERSION:2.0
PRODID:-//phil.firespring.org//NONSGML kigkonsult.se iCalcreator 2.30.10//
CALSCALE:GREGORIAN
METHOD:PUBLISH
UID:7b076481-623b-4551-881f-62c9e84e2ee4
X-WR-CALDESC:Please bring drinking water
X-WR-RELCALID:427868caae8925d41b6ecdd469878b8b
X-WR-TIMEZONE:America/Chicago
BEGIN:VTIMEZONE
TZID:America/Chicago
BEGIN:STANDARD
TZNAME:CST
DTSTART:20211107T020000
TZOFFSETFROM:-0500
TZOFFSETTO:-0600
RDATE:20221106T020000
END:STANDARD
BEGIN:DAYLIGHT
TZNAME:CDT
DTSTART:20210314T020000
TZOFFSETFROM:-0600
TZOFFSETTO:-0500
RDATE:20220313T020000
RDATE:20230312T020000
END:DAYLIGHT
END:VTIMEZONE
BEGIN:VEVENT
UID:c89d8056-32e9-4474-a4c4-e5ab57095df9
DTSTAMP:20260422T221600Z
DESCRIPTION:Please bring drinking water
DTSTART;TZID=America/Chicago:20211223T160000
DTEND;TZID=America/Chicago:20211223T170000
LOCATION:Firespring
SUMMARY:Walking Group
END:VEVENT
END:VCALENDAR
