BEGIN:VCALENDAR
VERSION:2.0
PRODID:-//phil.firespring.org//NONSGML kigkonsult.se iCalcreator 2.30.10//
CALSCALE:GREGORIAN
METHOD:PUBLISH
UID:9ebb1dc3-3522-4a89-89d7-cd69a603c9e2
X-WR-CALDESC:
X-WR-RELCALID:12990c8904259df4ff2569143d664639
X-WR-TIMEZONE:America/Chicago
BEGIN:VTIMEZONE
TZID:America/Chicago
BEGIN:STANDARD
TZNAME:CST
DTSTART:20211107T020000
TZOFFSETFROM:-0500
TZOFFSETTO:-0600
RDATE:20221106T020000
END:STANDARD
BEGIN:DAYLIGHT
TZNAME:CDT
DTSTART:20210314T020000
TZOFFSETFROM:-0600
TZOFFSETTO:-0500
RDATE:20220313T020000
RDATE:20230312T020000
END:DAYLIGHT
END:VTIMEZONE
BEGIN:VEVENT
UID:978fac9b-dd20-4bb7-b1fc-cf9abaacda47
DTSTAMP:20260422T221600Z
DESCRIPTION:
DTSTART;TZID=America/Chicago:20211230T210000
DTEND;TZID=America/Chicago:20211231T000000
LOCATION:
SUMMARY:Pre-New Years with Phil
END:VEVENT
END:VCALENDAR
