BEGIN:VCALENDAR
VERSION:2.0
PRODID:-//phil.firespring.org//NONSGML kigkonsult.se iCalcreator 2.30.10//
CALSCALE:GREGORIAN
METHOD:PUBLISH
UID:0f43311e-255c-4d57-87fd-da665af31189
X-WR-CALDESC:
X-WR-RELCALID:ee10fc6bc9ba30c78a51e87114e8f07f
X-WR-TIMEZONE:America/Chicago
BEGIN:VTIMEZONE
TZID:America/Chicago
BEGIN:STANDARD
TZNAME:CST
DTSTART:20211107T020000
TZOFFSETFROM:-0500
TZOFFSETTO:-0600
RDATE:20221106T020000
END:STANDARD
BEGIN:DAYLIGHT
TZNAME:CDT
DTSTART:20210314T020000
TZOFFSETFROM:-0600
TZOFFSETTO:-0500
RDATE:20220313T020000
RDATE:20230312T020000
END:DAYLIGHT
END:VTIMEZONE
BEGIN:VEVENT
UID:0c4d41d3-7448-4601-88d5-1c6b86de6846
DTSTAMP:20260422T215036Z
DESCRIPTION:
DTSTART;TZID=America/Chicago:20211231T123000
DTEND;TZID=America/Chicago:20211231T133000
LOCATION:
SUMMARY:Gala
END:VEVENT
END:VCALENDAR
