BEGIN:VCALENDAR
VERSION:2.0
PRODID:-//phil.firespring.org//NONSGML kigkonsult.se iCalcreator 2.30.10//
CALSCALE:GREGORIAN
METHOD:PUBLISH
UID:6eafcce9-819f-417b-9421-e41de51fef46
X-WR-CALDESC:Please bring drinking water
X-WR-RELCALID:8d19196b03eda106ba4d6cce2cf8b682
X-WR-TIMEZONE:America/Chicago
BEGIN:VTIMEZONE
TZID:America/Chicago
BEGIN:STANDARD
TZNAME:CST
DTSTART:20211107T020000
TZOFFSETFROM:-0500
TZOFFSETTO:-0600
RDATE:20221106T020000
END:STANDARD
BEGIN:DAYLIGHT
TZNAME:CDT
DTSTART:20210314T020000
TZOFFSETFROM:-0600
TZOFFSETTO:-0500
RDATE:20220313T020000
RDATE:20230312T020000
END:DAYLIGHT
END:VTIMEZONE
BEGIN:VEVENT
UID:ac9d9221-9977-40d0-9ffd-a4237bece130
DTSTAMP:20260422T203012Z
DESCRIPTION:Please bring drinking water
DTSTART;TZID=America/Chicago:20220120T160000
DTEND;TZID=America/Chicago:20220120T170000
LOCATION:Firespring
SUMMARY:Walking Group
END:VEVENT
END:VCALENDAR
