BEGIN:VCALENDAR
VERSION:2.0
PRODID:-//phil.firespring.org//NONSGML kigkonsult.se iCalcreator 2.30.10//
CALSCALE:GREGORIAN
METHOD:PUBLISH
UID:2c5696c1-343e-4974-965d-4f9d2fd4126a
X-WR-CALDESC:Please bring drinking water
X-WR-RELCALID:07cde2e4bc60df25e1c6aa80bc616a04
X-WR-TIMEZONE:America/Chicago
BEGIN:VTIMEZONE
TZID:America/Chicago
BEGIN:STANDARD
TZNAME:CST
DTSTART:20211107T020000
TZOFFSETFROM:-0500
TZOFFSETTO:-0600
RDATE:20221106T020000
END:STANDARD
BEGIN:DAYLIGHT
TZNAME:CDT
DTSTART:20210314T020000
TZOFFSETFROM:-0600
TZOFFSETTO:-0500
RDATE:20220313T020000
RDATE:20230312T020000
END:DAYLIGHT
END:VTIMEZONE
BEGIN:VEVENT
UID:eea725be-b0a7-4845-8832-296767c221f5
DTSTAMP:20260422T191258Z
DESCRIPTION:Please bring drinking water
DTSTART;TZID=America/Chicago:20220217T160000
DTEND;TZID=America/Chicago:20220217T170000
LOCATION:Firespring
SUMMARY:Walking Group
END:VEVENT
END:VCALENDAR
