BEGIN:VCALENDAR
VERSION:2.0
PRODID:-//phil.firespring.org//NONSGML kigkonsult.se iCalcreator 2.30.10//
CALSCALE:GREGORIAN
METHOD:PUBLISH
UID:0801beaf-8aa5-4350-877c-2da256962d99
X-WR-CALDESC:Please bring drinking water
X-WR-RELCALID:d0709cb32f44edc3db2a032e07c1d35e
X-WR-TIMEZONE:America/Chicago
BEGIN:VTIMEZONE
TZID:America/Chicago
BEGIN:STANDARD
TZNAME:CST
DTSTART:20211107T020000
TZOFFSETFROM:-0500
TZOFFSETTO:-0600
RDATE:20221106T020000
END:STANDARD
BEGIN:DAYLIGHT
TZNAME:CDT
DTSTART:20220313T020000
TZOFFSETFROM:-0600
TZOFFSETTO:-0500
RDATE:20230312T020000
END:DAYLIGHT
END:VTIMEZONE
BEGIN:VEVENT
UID:c1f53bc4-c318-4935-addf-2aa0f56ae459
DTSTAMP:20260422T160130Z
DESCRIPTION:Please bring drinking water
DTSTART;TZID=America/Chicago:20220407T160000
DTEND;TZID=America/Chicago:20220407T170000
LOCATION:Firespring
SUMMARY:Walking Group
END:VEVENT
END:VCALENDAR
