BEGIN:VCALENDAR
VERSION:2.0
PRODID:-//phil.firespring.org//NONSGML kigkonsult.se iCalcreator 2.30.10//
CALSCALE:GREGORIAN
METHOD:PUBLISH
UID:1f165856-8809-43b5-8e50-4a630a4b0788
X-WR-CALDESC:
X-WR-RELCALID:50d30cf8cdc916a8fdc46d42ed3f61c1
X-WR-TIMEZONE:America/Chicago
BEGIN:VTIMEZONE
TZID:America/Chicago
BEGIN:STANDARD
TZNAME:CST
DTSTART:20211107T020000
TZOFFSETFROM:-0500
TZOFFSETTO:-0600
RDATE:20221106T020000
END:STANDARD
BEGIN:DAYLIGHT
TZNAME:CDT
DTSTART:20220313T020000
TZOFFSETFROM:-0600
TZOFFSETTO:-0500
RDATE:20230312T020000
END:DAYLIGHT
END:VTIMEZONE
BEGIN:VEVENT
UID:6c02b1cb-f48f-432f-b7c6-65e1ad3887c5
DTSTAMP:20260422T155634Z
DESCRIPTION:
DTSTART;TZID=America/Chicago:20220408T140000
DTEND;TZID=America/Chicago:20220408T150000
LOCATION:
SUMMARY:sfghsdfghdfgh
END:VEVENT
END:VCALENDAR
