BEGIN:VCALENDAR
VERSION:2.0
PRODID:-//phil.firespring.org//NONSGML kigkonsult.se iCalcreator 2.30.10//
CALSCALE:GREGORIAN
METHOD:PUBLISH
UID:fb1b4e3b-00af-4caf-89a6-186e403f8172
X-WR-CALDESC:Please bring drinking water
X-WR-RELCALID:ed7edeea01738cd99e9d2c195eb95551
X-WR-TIMEZONE:America/Chicago
BEGIN:VTIMEZONE
TZID:America/Chicago
BEGIN:STANDARD
TZNAME:CST
DTSTART:20211107T020000
TZOFFSETFROM:-0500
TZOFFSETTO:-0600
RDATE:20221106T020000
END:STANDARD
BEGIN:DAYLIGHT
TZNAME:CDT
DTSTART:20220313T020000
TZOFFSETFROM:-0600
TZOFFSETTO:-0500
RDATE:20230312T020000
END:DAYLIGHT
END:VTIMEZONE
BEGIN:VEVENT
UID:94ac360d-bd4f-44a1-b3cb-809b8cab8990
DTSTAMP:20260422T160627Z
DESCRIPTION:Please bring drinking water
DTSTART;TZID=America/Chicago:20220428T160000
DTEND;TZID=America/Chicago:20220428T170000
LOCATION:Firespring
SUMMARY:Walking Group
END:VEVENT
END:VCALENDAR
