BEGIN:VCALENDAR
VERSION:2.0
PRODID:-//phil.firespring.org//NONSGML kigkonsult.se iCalcreator 2.30.10//
CALSCALE:GREGORIAN
METHOD:PUBLISH
UID:9ccb2f87-926b-4b64-81a5-0d0878345772
X-WR-CALDESC:aslskdjfal\;skjd
X-WR-RELCALID:27f69095d79ec00e406e4b0a6a13ccce
X-WR-TIMEZONE:America/Chicago
BEGIN:VTIMEZONE
TZID:America/Chicago
BEGIN:STANDARD
TZNAME:CST
DTSTART:20211107T020000
TZOFFSETFROM:-0500
TZOFFSETTO:-0600
RDATE:20221106T020000
RDATE:20231105T020000
END:STANDARD
BEGIN:DAYLIGHT
TZNAME:CDT
DTSTART:20220313T020000
TZOFFSETFROM:-0600
TZOFFSETTO:-0500
RDATE:20230312T020000
END:DAYLIGHT
END:VTIMEZONE
BEGIN:VEVENT
UID:cddaa569-4170-43e0-864d-5b293c9d478e
DTSTAMP:20260422T144205Z
DESCRIPTION:aslskdjfal\;skjd
DTSTART;TZID=America/Chicago:20220510T133000
DTEND;TZID=America/Chicago:20220510T143000
LOCATION:
SUMMARY:Summer Reading Program Kickoff for 9 - 12 year olds
END:VEVENT
END:VCALENDAR
