BEGIN:VCALENDAR
VERSION:2.0
PRODID:-//phil.firespring.org//NONSGML kigkonsult.se iCalcreator 2.30.10//
CALSCALE:GREGORIAN
METHOD:PUBLISH
UID:cdf3bb29-6984-4baf-b21f-6cb7e4aad959
X-WR-CALDESC:Please bring drinking water
X-WR-RELCALID:91646150e49a9c33aa558d551b6f422c
X-WR-TIMEZONE:America/Chicago
BEGIN:VTIMEZONE
TZID:America/Chicago
BEGIN:STANDARD
TZNAME:CST
DTSTART:20211107T020000
TZOFFSETFROM:-0500
TZOFFSETTO:-0600
RDATE:20221106T020000
RDATE:20231105T020000
END:STANDARD
BEGIN:DAYLIGHT
TZNAME:CDT
DTSTART:20220313T020000
TZOFFSETFROM:-0600
TZOFFSETTO:-0500
RDATE:20230312T020000
END:DAYLIGHT
END:VTIMEZONE
BEGIN:VEVENT
UID:99815209-2c52-43ea-a324-c66c161d36a6
DTSTAMP:20260422T125236Z
DESCRIPTION:Please bring drinking water
DTSTART;TZID=America/Chicago:20220609T160000
DTEND;TZID=America/Chicago:20220609T170000
LOCATION:Firespring
SUMMARY:Walking Group
END:VEVENT
END:VCALENDAR
