BEGIN:VCALENDAR
VERSION:2.0
PRODID:-//phil.firespring.org//NONSGML kigkonsult.se iCalcreator 2.30.10//
CALSCALE:GREGORIAN
METHOD:PUBLISH
UID:36bbe064-de83-4110-924b-f6621110851f
X-WR-CALDESC:Please bring drinking water
X-WR-RELCALID:5cc7472b4d5b0c44a1569b8ab4aa4c73
X-WR-TIMEZONE:America/Chicago
BEGIN:VTIMEZONE
TZID:America/Chicago
BEGIN:STANDARD
TZNAME:CST
DTSTART:20211107T020000
TZOFFSETFROM:-0500
TZOFFSETTO:-0600
RDATE:20221106T020000
RDATE:20231105T020000
END:STANDARD
BEGIN:DAYLIGHT
TZNAME:CDT
DTSTART:20220313T020000
TZOFFSETFROM:-0600
TZOFFSETTO:-0500
RDATE:20230312T020000
END:DAYLIGHT
END:VTIMEZONE
BEGIN:VEVENT
UID:bb7be37d-2a9e-4907-8092-4516b5c4ba53
DTSTAMP:20260422T125206Z
DESCRIPTION:Please bring drinking water
DTSTART;TZID=America/Chicago:20220616T160000
DTEND;TZID=America/Chicago:20220616T170000
LOCATION:Firespring
SUMMARY:Walking Group
END:VEVENT
END:VCALENDAR
