BEGIN:VCALENDAR
VERSION:2.0
PRODID:-//phil.firespring.org//NONSGML kigkonsult.se iCalcreator 2.30.10//
CALSCALE:GREGORIAN
METHOD:PUBLISH
UID:4e4cf94c-4926-4808-bb77-0b723f9f8d0e
X-WR-CALDESC:
X-WR-RELCALID:355dcf36c00ed9d0fd0fad5e035a5106
X-WR-TIMEZONE:America/Chicago
BEGIN:VTIMEZONE
TZID:America/Chicago
BEGIN:STANDARD
TZNAME:CST
DTSTART:20211107T020000
TZOFFSETFROM:-0500
TZOFFSETTO:-0600
RDATE:20221106T020000
RDATE:20231105T020000
END:STANDARD
BEGIN:DAYLIGHT
TZNAME:CDT
DTSTART:20220313T020000
TZOFFSETFROM:-0600
TZOFFSETTO:-0500
RDATE:20230312T020000
RDATE:20240310T020000
END:DAYLIGHT
END:VTIMEZONE
BEGIN:VEVENT
UID:0df022c7-3d4d-449b-855b-ca0fb429ae97
DTSTAMP:20260422T080505Z
DESCRIPTION:
DTSTART;TZID=America/Chicago:20220916T000000
DTEND;TZID=America/Chicago:20220916T235900
LOCATION:
SUMMARY:Example
END:VEVENT
END:VCALENDAR
