BEGIN:VCALENDAR
VERSION:2.0
PRODID:-//phil.firespring.org//NONSGML kigkonsult.se iCalcreator 2.30.10//
CALSCALE:GREGORIAN
METHOD:PUBLISH
UID:a0f97a50-63d4-4c15-b00a-0269ae22ec75
X-WR-CALDESC:Please bring drinking water
X-WR-RELCALID:b6fe4842221fb5af72e20ab23a8a35f1
X-WR-TIMEZONE:America/Chicago
BEGIN:VTIMEZONE
TZID:America/Chicago
BEGIN:STANDARD
TZNAME:CST
DTSTART:20211107T020000
TZOFFSETFROM:-0500
TZOFFSETTO:-0600
RDATE:20221106T020000
RDATE:20231105T020000
END:STANDARD
BEGIN:DAYLIGHT
TZNAME:CDT
DTSTART:20220313T020000
TZOFFSETFROM:-0600
TZOFFSETTO:-0500
RDATE:20230312T020000
RDATE:20240310T020000
END:DAYLIGHT
END:VTIMEZONE
BEGIN:VEVENT
UID:4c95a1bb-1eb9-4df6-85ec-63e2dd34ca8a
DTSTAMP:20260422T061634Z
DESCRIPTION:Please bring drinking water
DTSTART;TZID=America/Chicago:20221013T160000
DTEND;TZID=America/Chicago:20221013T170000
LOCATION:Firespring
SUMMARY:Walking Group
END:VEVENT
END:VCALENDAR
