BEGIN:VCALENDAR
VERSION:2.0
PRODID:-//phil.firespring.org//NONSGML kigkonsult.se iCalcreator 2.30.10//
CALSCALE:GREGORIAN
METHOD:PUBLISH
UID:659fa794-10a6-4332-aaab-d6119776304d
X-WR-CALDESC:sdfgsdfgsdfgs
X-WR-RELCALID:0292cf28bce1bcc0915fc77e981c0318
X-WR-TIMEZONE:America/Chicago
BEGIN:VTIMEZONE
TZID:America/Chicago
BEGIN:STANDARD
TZNAME:CST
DTSTART:20221106T020000
TZOFFSETFROM:-0500
TZOFFSETTO:-0600
RDATE:20231105T020000
END:STANDARD
BEGIN:DAYLIGHT
TZNAME:CDT
DTSTART:20220313T020000
TZOFFSETFROM:-0600
TZOFFSETTO:-0500
RDATE:20230312T020000
RDATE:20240310T020000
END:DAYLIGHT
END:VTIMEZONE
BEGIN:VEVENT
UID:1ffb3989-5a7b-4c42-ba79-8a26d68d5695
DTSTAMP:20260422T043205Z
DESCRIPTION:sdfgsdfgsdfgs
DTSTART;TZID=America/Chicago:20221123T183000
DTEND;TZID=America/Chicago:20221123T193000
LOCATION:
SUMMARY:Fun Member Event
END:VEVENT
END:VCALENDAR
