BEGIN:VCALENDAR
VERSION:2.0
PRODID:-//phil.firespring.org//NONSGML kigkonsult.se iCalcreator 2.30.10//
CALSCALE:GREGORIAN
METHOD:PUBLISH
UID:e8449f11-c9c7-43d7-966d-fc7a9d692968
X-WR-CALDESC:Please bring drinking water
X-WR-RELCALID:56bbd034cf328a94e2e10e1bf328d047
X-WR-TIMEZONE:America/Chicago
BEGIN:VTIMEZONE
TZID:America/Chicago
BEGIN:STANDARD
TZNAME:CST
DTSTART:20221106T020000
TZOFFSETFROM:-0500
TZOFFSETTO:-0600
RDATE:20231105T020000
END:STANDARD
BEGIN:DAYLIGHT
TZNAME:CDT
DTSTART:20220313T020000
TZOFFSETFROM:-0600
TZOFFSETTO:-0500
RDATE:20230312T020000
RDATE:20240310T020000
END:DAYLIGHT
END:VTIMEZONE
BEGIN:VEVENT
UID:401f6255-f870-4638-9120-5e16e2e27462
DTSTAMP:20260422T025925Z
DESCRIPTION:Please bring drinking water
DTSTART;TZID=America/Chicago:20221201T160000
DTEND;TZID=America/Chicago:20221201T170000
LOCATION:Firespring
SUMMARY:Walking Group
END:VEVENT
END:VCALENDAR
