BEGIN:VCALENDAR
VERSION:2.0
PRODID:-//phil.firespring.org//NONSGML kigkonsult.se iCalcreator 2.30.10//
CALSCALE:GREGORIAN
METHOD:PUBLISH
UID:a9c78ee1-bb5e-4076-a164-71c52762d09b
X-WR-CALDESC:asdfasdfa
X-WR-RELCALID:9516e2c58f2863bfe1e11aa75b5cf694
X-WR-TIMEZONE:America/Chicago
BEGIN:VTIMEZONE
TZID:America/Chicago
BEGIN:STANDARD
TZNAME:CST
DTSTART:20221106T020000
TZOFFSETFROM:-0500
TZOFFSETTO:-0600
RDATE:20231105T020000
END:STANDARD
BEGIN:DAYLIGHT
TZNAME:CDT
DTSTART:20220313T020000
TZOFFSETFROM:-0600
TZOFFSETTO:-0500
RDATE:20230312T020000
RDATE:20240310T020000
END:DAYLIGHT
END:VTIMEZONE
BEGIN:VEVENT
UID:025895cd-568e-4b7e-bd11-bea908639f7a
DTSTAMP:20260422T015305Z
DESCRIPTION:asdfasdfa
DTSTART;TZID=America/Chicago:20230131T103000
DTEND;TZID=America/Chicago:20230131T113000
LOCATION:
SUMMARY:Fake event
END:VEVENT
END:VCALENDAR
