BEGIN:VCALENDAR
VERSION:2.0
PRODID:-//phil.firespring.org//NONSGML kigkonsult.se iCalcreator 2.30.10//
CALSCALE:GREGORIAN
METHOD:PUBLISH
UID:10c78678-8209-4d4a-92ee-4ab11fa0a825
X-WR-CALDESC:Please bring drinking water
X-WR-RELCALID:3bad97fca6261807430dfe996a4f5d47
X-WR-TIMEZONE:America/Chicago
BEGIN:VTIMEZONE
TZID:America/Chicago
BEGIN:STANDARD
TZNAME:CST
DTSTART:20221106T020000
TZOFFSETFROM:-0500
TZOFFSETTO:-0600
RDATE:20231105T020000
END:STANDARD
BEGIN:DAYLIGHT
TZNAME:CDT
DTSTART:20220313T020000
TZOFFSETFROM:-0600
TZOFFSETTO:-0500
RDATE:20230312T020000
RDATE:20240310T020000
END:DAYLIGHT
END:VTIMEZONE
BEGIN:VEVENT
UID:85aae1e0-1204-472d-8bb8-459b6ef81936
DTSTAMP:20260421T213911Z
DESCRIPTION:Please bring drinking water
DTSTART;TZID=America/Chicago:20230302T160000
DTEND;TZID=America/Chicago:20230302T170000
LOCATION:Firespring
SUMMARY:Walking Group
END:VEVENT
END:VCALENDAR
