BEGIN:VCALENDAR
VERSION:2.0
PRODID:-//phil.firespring.org//NONSGML kigkonsult.se iCalcreator 2.30.10//
CALSCALE:GREGORIAN
METHOD:PUBLISH
UID:5925f51e-7e5d-4a47-89f7-15dcaaf444a3
X-WR-CALDESC:Please bring drinking water
X-WR-RELCALID:b551ffa2ab546d91586f16b233a1103f
X-WR-TIMEZONE:America/Chicago
BEGIN:VTIMEZONE
TZID:America/Chicago
BEGIN:STANDARD
TZNAME:CST
DTSTART:20221106T020000
TZOFFSETFROM:-0500
TZOFFSETTO:-0600
RDATE:20231105T020000
END:STANDARD
BEGIN:DAYLIGHT
TZNAME:CDT
DTSTART:20220313T020000
TZOFFSETFROM:-0600
TZOFFSETTO:-0500
RDATE:20230312T020000
RDATE:20240310T020000
END:DAYLIGHT
END:VTIMEZONE
BEGIN:VEVENT
UID:fd9a1701-1661-4de0-9014-382574b9cb7e
DTSTAMP:20260421T213521Z
DESCRIPTION:Please bring drinking water
DTSTART;TZID=America/Chicago:20230309T160000
DTEND;TZID=America/Chicago:20230309T170000
LOCATION:Firespring
SUMMARY:Walking Group
END:VEVENT
END:VCALENDAR
