BEGIN:VCALENDAR
VERSION:2.0
PRODID:-//phil.firespring.org//NONSGML kigkonsult.se iCalcreator 2.30.10//
CALSCALE:GREGORIAN
METHOD:PUBLISH
UID:aee3b4af-7959-4038-82fc-178ba1c8ac2a
X-WR-CALDESC:
X-WR-RELCALID:e0488ef44256db3f9baaec3bdea95776
X-WR-TIMEZONE:America/Chicago
BEGIN:VTIMEZONE
TZID:America/Chicago
BEGIN:STANDARD
TZNAME:CST
DTSTART:20221106T020000
TZOFFSETFROM:-0500
TZOFFSETTO:-0600
RDATE:20231105T020000
END:STANDARD
BEGIN:DAYLIGHT
TZNAME:CDT
DTSTART:20230312T020000
TZOFFSETFROM:-0600
TZOFFSETTO:-0500
RDATE:20240310T020000
END:DAYLIGHT
END:VTIMEZONE
BEGIN:VEVENT
UID:f09d41bb-b411-4d35-bbe0-344b1833ed33
DTSTAMP:20260421T214118Z
DESCRIPTION:
DTSTART;TZID=America/Chicago:20230316T153000
DTEND;TZID=America/Chicago:20230316T163000
LOCATION:
SUMMARY:Food Box Pickup
END:VEVENT
END:VCALENDAR
