BEGIN:VCALENDAR
VERSION:2.0
PRODID:-//phil.firespring.org//NONSGML kigkonsult.se iCalcreator 2.30.10//
CALSCALE:GREGORIAN
METHOD:PUBLISH
UID:04500d41-c77c-4e33-9ce6-a91bd45b2eee
X-WR-CALDESC:Please bring drinking water
X-WR-RELCALID:74172232a14e319b2850b6deeda17209
X-WR-TIMEZONE:America/Chicago
BEGIN:VTIMEZONE
TZID:America/Chicago
BEGIN:STANDARD
TZNAME:CST
DTSTART:20221106T020000
TZOFFSETFROM:-0500
TZOFFSETTO:-0600
RDATE:20231105T020000
END:STANDARD
BEGIN:DAYLIGHT
TZNAME:CDT
DTSTART:20230312T020000
TZOFFSETFROM:-0600
TZOFFSETTO:-0500
RDATE:20240310T020000
END:DAYLIGHT
END:VTIMEZONE
BEGIN:VEVENT
UID:647e40aa-83ac-41d3-92ee-e7c0e66a73ae
DTSTAMP:20260421T213916Z
DESCRIPTION:Please bring drinking water
DTSTART;TZID=America/Chicago:20230323T160000
DTEND;TZID=America/Chicago:20230323T170000
LOCATION:Firespring
SUMMARY:Walking Group
END:VEVENT
END:VCALENDAR
