BEGIN:VCALENDAR
VERSION:2.0
PRODID:-//phil.firespring.org//NONSGML kigkonsult.se iCalcreator 2.30.10//
CALSCALE:GREGORIAN
METHOD:PUBLISH
UID:5de26f49-921e-4d42-a52e-1dbeaf78b15a
X-WR-CALDESC:No details!
X-WR-RELCALID:4a9dd9cdc5c7534ba14be4de79d65273
X-WR-TIMEZONE:America/Chicago
BEGIN:VTIMEZONE
TZID:America/Chicago
BEGIN:STANDARD
TZNAME:CST
DTSTART:20221106T020000
TZOFFSETFROM:-0500
TZOFFSETTO:-0600
RDATE:20231105T020000
END:STANDARD
BEGIN:DAYLIGHT
TZNAME:CDT
DTSTART:20230312T020000
TZOFFSETFROM:-0600
TZOFFSETTO:-0500
RDATE:20240310T020000
END:DAYLIGHT
END:VTIMEZONE
BEGIN:VEVENT
UID:2f91f4b1-4e57-420d-b584-b85a3e867e52
DTSTAMP:20260421T214343Z
DESCRIPTION:No details!
DTSTART;TZID=America/Chicago:20230330T160000
DTEND;TZID=America/Chicago:20230330T173000
LOCATION:
SUMMARY:Financial Stability 101 Class
END:VEVENT
END:VCALENDAR
