BEGIN:VCALENDAR
VERSION:2.0
PRODID:-//phil.firespring.org//NONSGML kigkonsult.se iCalcreator 2.30.10//
CALSCALE:GREGORIAN
METHOD:PUBLISH
UID:e31251ba-f5f5-431d-98dc-91fcc074d63e
X-WR-CALDESC:No details!
X-WR-RELCALID:a18359138caaf46e75a9ae7f48a3727b
X-WR-TIMEZONE:America/Chicago
BEGIN:VTIMEZONE
TZID:America/Chicago
BEGIN:STANDARD
TZNAME:CST
DTSTART:20221106T020000
TZOFFSETFROM:-0500
TZOFFSETTO:-0600
RDATE:20231105T020000
END:STANDARD
BEGIN:DAYLIGHT
TZNAME:CDT
DTSTART:20230312T020000
TZOFFSETFROM:-0600
TZOFFSETTO:-0500
RDATE:20240310T020000
END:DAYLIGHT
END:VTIMEZONE
BEGIN:VEVENT
UID:17bb5628-54a9-4277-b3b0-b9e7be069be8
DTSTAMP:20260421T201601Z
DESCRIPTION:No details!
DTSTART;TZID=America/Chicago:20230413T160000
DTEND;TZID=America/Chicago:20230413T173000
LOCATION:
SUMMARY:Financial Stability 101 Class
END:VEVENT
END:VCALENDAR
