BEGIN:VCALENDAR
VERSION:2.0
PRODID:-//phil.firespring.org//NONSGML kigkonsult.se iCalcreator 2.30.10//
CALSCALE:GREGORIAN
METHOD:PUBLISH
UID:31af385a-2a2e-4f2f-a5bf-232737d233b6
X-WR-CALDESC:
X-WR-RELCALID:667247d30a6e4008ed76c4124d44ee4f
X-WR-TIMEZONE:America/Chicago
BEGIN:VTIMEZONE
TZID:America/Chicago
BEGIN:STANDARD
TZNAME:CST
DTSTART:20221106T020000
TZOFFSETFROM:-0500
TZOFFSETTO:-0600
RDATE:20231105T020000
END:STANDARD
BEGIN:DAYLIGHT
TZNAME:CDT
DTSTART:20230312T020000
TZOFFSETFROM:-0600
TZOFFSETTO:-0500
RDATE:20240310T020000
END:DAYLIGHT
END:VTIMEZONE
BEGIN:VEVENT
UID:969b7b5e-b68d-465f-a277-4a9ec83296fe
DTSTAMP:20260421T195538Z
DESCRIPTION:
DTSTART;TZID=America/Chicago:20230420T090000
DTEND;TZID=America/Chicago:20230420T110000
LOCATION:
SUMMARY:Morning Tour
END:VEVENT
END:VCALENDAR
