BEGIN:VCALENDAR
VERSION:2.0
PRODID:-//phil.firespring.org//NONSGML kigkonsult.se iCalcreator 2.30.10//
CALSCALE:GREGORIAN
METHOD:PUBLISH
UID:9f535530-8c45-4c64-a8b0-4222892f5d37
X-WR-CALDESC:Please bring drinking water
X-WR-RELCALID:5f0e3c1a97624035b78a4455e2ce4c57
X-WR-TIMEZONE:America/Chicago
BEGIN:VTIMEZONE
TZID:America/Chicago
BEGIN:STANDARD
TZNAME:CST
DTSTART:20221106T020000
TZOFFSETFROM:-0500
TZOFFSETTO:-0600
RDATE:20231105T020000
RDATE:20241103T020000
END:STANDARD
BEGIN:DAYLIGHT
TZNAME:CDT
DTSTART:20230312T020000
TZOFFSETFROM:-0600
TZOFFSETTO:-0500
RDATE:20240310T020000
END:DAYLIGHT
END:VTIMEZONE
BEGIN:VEVENT
UID:6ee6f4a4-549e-4121-b8d7-2eeffcecd281
DTSTAMP:20260421T181022Z
DESCRIPTION:Please bring drinking water
DTSTART;TZID=America/Chicago:20230511T160000
DTEND;TZID=America/Chicago:20230511T170000
LOCATION:Firespring
SUMMARY:Walking Group
END:VEVENT
END:VCALENDAR
