BEGIN:VCALENDAR
VERSION:2.0
PRODID:-//phil.firespring.org//NONSGML kigkonsult.se iCalcreator 2.30.10//
CALSCALE:GREGORIAN
METHOD:PUBLISH
UID:4c5b6d7a-b794-4864-9974-b351a45bd5de
X-WR-CALDESC:Please bring drinking water
X-WR-RELCALID:556262082ce8a119de8ac6d3ae6f9f5b
X-WR-TIMEZONE:America/Chicago
BEGIN:VTIMEZONE
TZID:America/Chicago
BEGIN:STANDARD
TZNAME:CST
DTSTART:20221106T020000
TZOFFSETFROM:-0500
TZOFFSETTO:-0600
RDATE:20231105T020000
RDATE:20241103T020000
END:STANDARD
BEGIN:DAYLIGHT
TZNAME:CDT
DTSTART:20230312T020000
TZOFFSETFROM:-0600
TZOFFSETTO:-0500
RDATE:20240310T020000
END:DAYLIGHT
END:VTIMEZONE
BEGIN:VEVENT
UID:ca855621-b6ec-453f-8ca5-3405c13c9824
DTSTAMP:20260421T165643Z
DESCRIPTION:Please bring drinking water
DTSTART;TZID=America/Chicago:20230608T160000
DTEND;TZID=America/Chicago:20230608T170000
LOCATION:Firespring
SUMMARY:Walking Group
END:VEVENT
END:VCALENDAR
