BEGIN:VCALENDAR
VERSION:2.0
PRODID:-//phil.firespring.org//NONSGML kigkonsult.se iCalcreator 2.30.10//
CALSCALE:GREGORIAN
METHOD:PUBLISH
UID:4158f0c3-e1da-4581-bda2-4547999c1d87
X-WR-CALDESC:Please bring drinking water
X-WR-RELCALID:eb608dca350e7efcfa5740465481602d
X-WR-TIMEZONE:America/Chicago
BEGIN:VTIMEZONE
TZID:America/Chicago
BEGIN:STANDARD
TZNAME:CST
DTSTART:20221106T020000
TZOFFSETFROM:-0500
TZOFFSETTO:-0600
RDATE:20231105T020000
RDATE:20241103T020000
END:STANDARD
BEGIN:DAYLIGHT
TZNAME:CDT
DTSTART:20230312T020000
TZOFFSETFROM:-0600
TZOFFSETTO:-0500
RDATE:20240310T020000
END:DAYLIGHT
END:VTIMEZONE
BEGIN:VEVENT
UID:b6246e87-76d3-462b-a366-70bee6daaa1b
DTSTAMP:20260421T164619Z
DESCRIPTION:Please bring drinking water
DTSTART;TZID=America/Chicago:20230622T160000
DTEND;TZID=America/Chicago:20230622T170000
LOCATION:Firespring
SUMMARY:Walking Group
END:VEVENT
END:VCALENDAR
