BEGIN:VCALENDAR
VERSION:2.0
PRODID:-//phil.firespring.org//NONSGML kigkonsult.se iCalcreator 2.30.10//
CALSCALE:GREGORIAN
METHOD:PUBLISH
UID:200ff988-03bd-4091-a8f0-22079097d731
X-WR-CALDESC:Get help and help with better joints
X-WR-RELCALID:ae8360798cf27e79dbecf1b9229e1c98
X-WR-TIMEZONE:America/Chicago
BEGIN:VTIMEZONE
TZID:America/Chicago
BEGIN:STANDARD
TZNAME:CST
DTSTART:20221106T020000
TZOFFSETFROM:-0500
TZOFFSETTO:-0600
RDATE:20231105T020000
RDATE:20241103T020000
END:STANDARD
BEGIN:DAYLIGHT
TZNAME:CDT
DTSTART:20230312T020000
TZOFFSETFROM:-0600
TZOFFSETTO:-0500
RDATE:20240310T020000
END:DAYLIGHT
END:VTIMEZONE
BEGIN:VEVENT
UID:8c45ed52-d491-47c8-b3d9-e88696ec8703
DTSTAMP:20260421T153934Z
DESCRIPTION:Get help and help with better joints
DTSTART;TZID=America/Chicago:20230725T103000
DTEND;TZID=America/Chicago:20230725T180000
LOCATION:
SUMMARY:Dr. Cunningham - Orthopedist
END:VEVENT
END:VCALENDAR
