BEGIN:VCALENDAR
VERSION:2.0
PRODID:-//phil.firespring.org//NONSGML kigkonsult.se iCalcreator 2.30.10//
CALSCALE:GREGORIAN
METHOD:PUBLISH
UID:53f8b60d-ec9b-4f51-8cda-13c5195f4706
X-WR-CALDESC:Get help and help with better joints
X-WR-RELCALID:8062e2df5e2db2a3f3f6c78d14e86f71
X-WR-TIMEZONE:America/Chicago
BEGIN:VTIMEZONE
TZID:America/Chicago
BEGIN:STANDARD
TZNAME:CST
DTSTART:20221106T020000
TZOFFSETFROM:-0500
TZOFFSETTO:-0600
RDATE:20231105T020000
RDATE:20241103T020000
END:STANDARD
BEGIN:DAYLIGHT
TZNAME:CDT
DTSTART:20230312T020000
TZOFFSETFROM:-0600
TZOFFSETTO:-0500
RDATE:20240310T020000
END:DAYLIGHT
END:VTIMEZONE
BEGIN:VEVENT
UID:e494342c-2436-4bd4-9c92-aa8ff00cd269
DTSTAMP:20260421T135333Z
DESCRIPTION:Get help and help with better joints
DTSTART;TZID=America/Chicago:20230829T103000
DTEND;TZID=America/Chicago:20230829T180000
LOCATION:
SUMMARY:Dr. Cunningham - Orthopedist
END:VEVENT
END:VCALENDAR
