BEGIN:VCALENDAR
VERSION:2.0
PRODID:-//phil.firespring.org//NONSGML kigkonsult.se iCalcreator 2.30.10//
CALSCALE:GREGORIAN
METHOD:PUBLISH
UID:7e8902d4-3937-4e65-a7b5-88c06953590b
X-WR-CALDESC:Get help and help with better joints
X-WR-RELCALID:ecea8a3da5fb3bdcd18c5e7c9102e5fc
X-WR-TIMEZONE:America/Chicago
BEGIN:VTIMEZONE
TZID:America/Chicago
BEGIN:STANDARD
TZNAME:CST
DTSTART:20221106T020000
TZOFFSETFROM:-0500
TZOFFSETTO:-0600
RDATE:20231105T020000
RDATE:20241103T020000
END:STANDARD
BEGIN:DAYLIGHT
TZNAME:CDT
DTSTART:20230312T020000
TZOFFSETFROM:-0600
TZOFFSETTO:-0500
RDATE:20240310T020000
RDATE:20250309T020000
END:DAYLIGHT
END:VTIMEZONE
BEGIN:VEVENT
UID:b734572d-fef7-4f98-bd18-a57b6c5858c0
DTSTAMP:20260421T122140Z
DESCRIPTION:Get help and help with better joints
DTSTART;TZID=America/Chicago:20230912T103000
DTEND;TZID=America/Chicago:20230912T180000
LOCATION:
SUMMARY:Dr. Cunningham - Orthopedist
END:VEVENT
END:VCALENDAR
