BEGIN:VCALENDAR
VERSION:2.0
PRODID:-//phil.firespring.org//NONSGML kigkonsult.se iCalcreator 2.30.10//
CALSCALE:GREGORIAN
METHOD:PUBLISH
UID:96c5ce90-1896-455e-9984-a310e89d1e44
X-WR-CALDESC:
X-WR-RELCALID:6d8f8537a49b6a4460ef396adc569bc1
X-WR-TIMEZONE:America/Chicago
BEGIN:VTIMEZONE
TZID:America/Chicago
BEGIN:STANDARD
TZNAME:CST
DTSTART:20221106T020000
TZOFFSETFROM:-0500
TZOFFSETTO:-0600
RDATE:20231105T020000
RDATE:20241103T020000
END:STANDARD
BEGIN:DAYLIGHT
TZNAME:CDT
DTSTART:20230312T020000
TZOFFSETFROM:-0600
TZOFFSETTO:-0500
RDATE:20240310T020000
RDATE:20250309T020000
END:DAYLIGHT
END:VTIMEZONE
BEGIN:VEVENT
UID:707fb5fc-ed41-47f0-8512-5ac109084688
DTSTAMP:20260421T120829Z
DESCRIPTION:
DTSTART;TZID=America/Chicago:20230926T173000
DTEND;TZID=America/Chicago:20230926T213000
LOCATION:
SUMMARY:Gala
END:VEVENT
END:VCALENDAR
