BEGIN:VCALENDAR
VERSION:2.0
PRODID:-//phil.firespring.org//NONSGML kigkonsult.se iCalcreator 2.30.10//
CALSCALE:GREGORIAN
METHOD:PUBLISH
UID:cd28f507-f476-44fe-8726-e11d3c6ee10a
X-WR-CALDESC:Please bring drinking water
X-WR-RELCALID:be09b0dc45d390c83949166a4e5e4985
X-WR-TIMEZONE:America/Chicago
BEGIN:VTIMEZONE
TZID:America/Chicago
BEGIN:STANDARD
TZNAME:CST
DTSTART:20221106T020000
TZOFFSETFROM:-0500
TZOFFSETTO:-0600
RDATE:20231105T020000
RDATE:20241103T020000
END:STANDARD
BEGIN:DAYLIGHT
TZNAME:CDT
DTSTART:20230312T020000
TZOFFSETFROM:-0600
TZOFFSETTO:-0500
RDATE:20240310T020000
RDATE:20250309T020000
END:DAYLIGHT
END:VTIMEZONE
BEGIN:VEVENT
UID:a0a8b293-267e-4ca5-b26d-bc4af2befa8d
DTSTAMP:20260421T090700Z
DESCRIPTION:Please bring drinking water
DTSTART;TZID=America/Chicago:20231005T160000
DTEND;TZID=America/Chicago:20231005T170000
LOCATION:Firespring
SUMMARY:Walking Group
END:VEVENT
END:VCALENDAR
