BEGIN:VCALENDAR
VERSION:2.0
PRODID:-//phil.firespring.org//NONSGML kigkonsult.se iCalcreator 2.30.10//
CALSCALE:GREGORIAN
METHOD:PUBLISH
UID:835c36b5-0f3f-4d3c-9dd6-d43d503f8541
X-WR-CALDESC:Please bring drinking water
X-WR-RELCALID:ff3ce87212f30afc1bd8b544975af0e2
X-WR-TIMEZONE:America/Chicago
BEGIN:VTIMEZONE
TZID:America/Chicago
BEGIN:STANDARD
TZNAME:CST
DTSTART:20221106T020000
TZOFFSETFROM:-0500
TZOFFSETTO:-0600
RDATE:20231105T020000
RDATE:20241103T020000
END:STANDARD
BEGIN:DAYLIGHT
TZNAME:CDT
DTSTART:20230312T020000
TZOFFSETFROM:-0600
TZOFFSETTO:-0500
RDATE:20240310T020000
RDATE:20250309T020000
END:DAYLIGHT
END:VTIMEZONE
BEGIN:VEVENT
UID:bdb5ab85-ac87-4dbf-bfd1-1f31f9927e8f
DTSTAMP:20260421T100618Z
DESCRIPTION:Please bring drinking water
DTSTART;TZID=America/Chicago:20231012T160000
DTEND;TZID=America/Chicago:20231012T170000
LOCATION:Firespring
SUMMARY:Walking Group
END:VEVENT
END:VCALENDAR
