BEGIN:VCALENDAR
VERSION:2.0
PRODID:-//phil.firespring.org//NONSGML kigkonsult.se iCalcreator 2.30.10//
CALSCALE:GREGORIAN
METHOD:PUBLISH
UID:4ddd0c5c-5f31-452a-9f93-c1db0f92815f
X-WR-CALDESC:Get help and help with better joints
X-WR-RELCALID:46bf913d2052d5e9a31ff840b8455085
X-WR-TIMEZONE:America/Chicago
BEGIN:VTIMEZONE
TZID:America/Chicago
BEGIN:STANDARD
TZNAME:CST
DTSTART:20221106T020000
TZOFFSETFROM:-0500
TZOFFSETTO:-0600
RDATE:20231105T020000
RDATE:20241103T020000
END:STANDARD
BEGIN:DAYLIGHT
TZNAME:CDT
DTSTART:20230312T020000
TZOFFSETFROM:-0600
TZOFFSETTO:-0500
RDATE:20240310T020000
RDATE:20250309T020000
END:DAYLIGHT
END:VTIMEZONE
BEGIN:VEVENT
UID:4f06cbf0-a226-49ad-a7c7-37becf651906
DTSTAMP:20260421T091455Z
DESCRIPTION:Get help and help with better joints
DTSTART;TZID=America/Chicago:20231024T103000
DTEND;TZID=America/Chicago:20231024T180000
LOCATION:
SUMMARY:Dr. Cunningham - Orthopedist
END:VEVENT
END:VCALENDAR
