BEGIN:VCALENDAR
VERSION:2.0
PRODID:-//phil.firespring.org//NONSGML kigkonsult.se iCalcreator 2.30.10//
CALSCALE:GREGORIAN
METHOD:PUBLISH
UID:6b1dd95c-827b-4c0a-8dbc-e3aafcdfabb3
X-WR-CALDESC:Get help and help with better joints
X-WR-RELCALID:efeae97c217a6d0ac02f4e746c12a06c
X-WR-TIMEZONE:America/Chicago
BEGIN:VTIMEZONE
TZID:America/Chicago
BEGIN:STANDARD
TZNAME:CST
DTSTART:20221106T020000
TZOFFSETFROM:-0500
TZOFFSETTO:-0600
RDATE:20231105T020000
RDATE:20241103T020000
END:STANDARD
BEGIN:DAYLIGHT
TZNAME:CDT
DTSTART:20230312T020000
TZOFFSETFROM:-0600
TZOFFSETTO:-0500
RDATE:20240310T020000
RDATE:20250309T020000
END:DAYLIGHT
END:VTIMEZONE
BEGIN:VEVENT
UID:2adb3b03-737f-4b36-807b-81d561d728e2
DTSTAMP:20260421T085253Z
DESCRIPTION:Get help and help with better joints
DTSTART;TZID=America/Chicago:20231031T103000
DTEND;TZID=America/Chicago:20231031T180000
LOCATION:
SUMMARY:Dr. Cunningham - Orthopedist
END:VEVENT
END:VCALENDAR
