BEGIN:VCALENDAR
VERSION:2.0
PRODID:-//phil.firespring.org//NONSGML kigkonsult.se iCalcreator 2.30.10//
CALSCALE:GREGORIAN
METHOD:PUBLISH
UID:bb712287-7043-413d-97dd-8a72ff5de20a
X-WR-CALDESC:Please bring drinking water
X-WR-RELCALID:bf9be7ff04491c84e72c9e14d79b370d
X-WR-TIMEZONE:America/Chicago
BEGIN:VTIMEZONE
TZID:America/Chicago
BEGIN:STANDARD
TZNAME:CST
DTSTART:20251102T020000
TZOFFSETFROM:-0500
TZOFFSETTO:-0600
RDATE:20261101T020000
RDATE:20271107T020000
END:STANDARD
BEGIN:DAYLIGHT
TZNAME:CDT
DTSTART:20260308T020000
TZOFFSETFROM:-0600
TZOFFSETTO:-0500
RDATE:20270314T020000
END:DAYLIGHT
END:VTIMEZONE
BEGIN:VEVENT
UID:fb5640be-5f70-4d89-850c-e32b90a8caff
DTSTAMP:20260421T103348Z
DESCRIPTION:Please bring drinking water
DTSTART;TZID=America/Chicago:20260702T160000
DTEND;TZID=America/Chicago:20260702T170000
LOCATION:Firespring
SUMMARY:Walking Group
END:VEVENT
END:VCALENDAR
