BEGIN:VCALENDAR
VERSION:2.0
PRODID:-//phil.firespring.org//NONSGML kigkonsult.se iCalcreator 2.30.10//
CALSCALE:GREGORIAN
METHOD:PUBLISH
UID:59dd3220-655f-4b1e-8cb1-e790b39227be
X-WR-CALDESC:Please bring drinking water
X-WR-RELCALID:3e8db9777a4e1c79a8afaf6fc6cac7d0
X-WR-TIMEZONE:America/Chicago
BEGIN:VTIMEZONE
TZID:America/Chicago
BEGIN:STANDARD
TZNAME:CST
DTSTART:20251102T020000
TZOFFSETFROM:-0500
TZOFFSETTO:-0600
RDATE:20261101T020000
RDATE:20271107T020000
END:STANDARD
BEGIN:DAYLIGHT
TZNAME:CDT
DTSTART:20260308T020000
TZOFFSETFROM:-0600
TZOFFSETTO:-0500
RDATE:20270314T020000
END:DAYLIGHT
END:VTIMEZONE
BEGIN:VEVENT
UID:0eea32c2-ebd9-48cb-8baa-81386470f0aa
DTSTAMP:20260421T121057Z
DESCRIPTION:Please bring drinking water
DTSTART;TZID=America/Chicago:20260806T160000
DTEND;TZID=America/Chicago:20260806T170000
LOCATION:Firespring
SUMMARY:Walking Group
END:VEVENT
END:VCALENDAR
