BEGIN:VCALENDAR
VERSION:2.0
PRODID:-//phil.firespring.org//NONSGML kigkonsult.se iCalcreator 2.30.10//
CALSCALE:GREGORIAN
METHOD:PUBLISH
UID:73ec2126-d0fa-48e6-93e7-da2f991b667c
X-WR-CALDESC:Please bring drinking water
X-WR-RELCALID:36b46afea985789a4079bc3f4bf38e1e
X-WR-TIMEZONE:America/Chicago
BEGIN:VTIMEZONE
TZID:America/Chicago
BEGIN:STANDARD
TZNAME:CST
DTSTART:20251102T020000
TZOFFSETFROM:-0500
TZOFFSETTO:-0600
RDATE:20261101T020000
RDATE:20271107T020000
END:STANDARD
BEGIN:DAYLIGHT
TZNAME:CDT
DTSTART:20260308T020000
TZOFFSETFROM:-0600
TZOFFSETTO:-0500
RDATE:20270314T020000
END:DAYLIGHT
END:VTIMEZONE
BEGIN:VEVENT
UID:80c4dcd0-4078-4711-aa30-7b70df793ff2
DTSTAMP:20260421T121041Z
DESCRIPTION:Please bring drinking water
DTSTART;TZID=America/Chicago:20260820T160000
DTEND;TZID=America/Chicago:20260820T170000
LOCATION:Firespring
SUMMARY:Walking Group
END:VEVENT
END:VCALENDAR
