BEGIN:VCALENDAR
VERSION:2.0
PRODID:-//phil.firespring.org//NONSGML kigkonsult.se iCalcreator 2.30.10//
CALSCALE:GREGORIAN
METHOD:PUBLISH
UID:b302bd8d-5409-4fc0-9caa-a66b079ad5b6
X-WR-CALDESC:Please bring drinking water
X-WR-RELCALID:a3b1fbe210a8cc735cc6f23468fc6da7
X-WR-TIMEZONE:America/Chicago
BEGIN:VTIMEZONE
TZID:America/Chicago
BEGIN:STANDARD
TZNAME:CST
DTSTART:20251102T020000
TZOFFSETFROM:-0500
TZOFFSETTO:-0600
RDATE:20261101T020000
RDATE:20271107T020000
END:STANDARD
BEGIN:DAYLIGHT
TZNAME:CDT
DTSTART:20260308T020000
TZOFFSETFROM:-0600
TZOFFSETTO:-0500
RDATE:20270314T020000
RDATE:20280312T020000
END:DAYLIGHT
END:VTIMEZONE
BEGIN:VEVENT
UID:230258a9-8982-4d50-8464-fc048684f149
DTSTAMP:20260421T153238Z
DESCRIPTION:Please bring drinking water
DTSTART;TZID=America/Chicago:20261001T160000
DTEND;TZID=America/Chicago:20261001T170000
LOCATION:Firespring
SUMMARY:Walking Group
END:VEVENT
END:VCALENDAR
